BEGIN:VCALENDAR
VERSION:2.0
PRODID:-//FEBIAS College of Bible - ECPv6.6.0.2//NONSGML v1.0//EN
CALSCALE:GREGORIAN
METHOD:PUBLISH
X-ORIGINAL-URL:https://febias.edu.ph
X-WR-CALDESC:Events for FEBIAS College of Bible
REFRESH-INTERVAL;VALUE=DURATION:PT1H
X-Robots-Tag:noindex
X-PUBLISHED-TTL:PT1H
BEGIN:VTIMEZONE
TZID:UTC
BEGIN:STANDARD
TZOFFSETFROM:+0000
TZOFFSETTO:+0000
TZNAME:UTC
DTSTART:20240101T000000
END:STANDARD
END:VTIMEZONE
BEGIN:VEVENT
DTSTART;VALUE=DATE:20240819
DTEND;VALUE=DATE:20240824
DTSTAMP:20260419T133514
CREATED:20240817T070833Z
LAST-MODIFIED:20240817T070944Z
UID:36698-1724025600-1724457599@febias.edu.ph
SUMMARY:Special Chapel Services
DESCRIPTION:
URL:https://febias.edu.ph/event/special-chapel-services-2024/
LOCATION:Campus\, FEBIAS College of Bible\, 2 Karuhatan Rd\, Valenzuela\, Metro Manila\, Philippines
CATEGORIES:Academic,Special Events
ATTACH;FMTTYPE=image/jpeg:https://febias.edu.ph/wp-content/uploads/2024/08/DSC07013.jpg
END:VEVENT
END:VCALENDAR